BEGIN:VCALENDAR
VERSION:2.0
PRODID: Ultiorganizer


BEGIN:VEVENT
SUMMARY:France-Hungary
DESCRIPTION:U20 Mixed: Pool A
LOCATION:  3
DTSTART;TZID=Europe/London:20230806T113000
DURATION: P120M
GEO:;
END:VEVENT

BEGIN:VEVENT
SUMMARY:Poland-France
DESCRIPTION:U20 Mixed: Pool A
LOCATION:  6
DTSTART;TZID=Europe/London:20230806T160000
DURATION: P120M
GEO:;
END:VEVENT

BEGIN:VEVENT
SUMMARY:France-Italy
DESCRIPTION:U20 Mixed: Pool A
LOCATION:  3
DTSTART;TZID=Europe/London:20230807T091500
DURATION: P120M
GEO:;
END:VEVENT

BEGIN:VEVENT
SUMMARY:Switzerland-France
DESCRIPTION:U20 Mixed: Pool A
LOCATION:  4
DTSTART;TZID=Europe/London:20230807T160000
DURATION: P120M
GEO:;
END:VEVENT

BEGIN:VEVENT
SUMMARY:France-Belgium
DESCRIPTION:U20 Mixed: Pool A
LOCATION:  1
DTSTART;TZID=Europe/London:20230808T091500
DURATION: P120M
GEO:;
END:VEVENT

BEGIN:VEVENT
SUMMARY:Ireland-France
DESCRIPTION:U20 Mixed: Pool A
LOCATION:  6
DTSTART;TZID=Europe/London:20230809T180000
DURATION: P120M
GEO:;
END:VEVENT

BEGIN:VEVENT
SUMMARY:France-Hungary
DESCRIPTION:U20 Mixed: Bracket 1-4
LOCATION:  4
DTSTART;TZID=Europe/London:20230811T091500
DURATION: P120M
GEO:;
END:VEVENT

BEGIN:VEVENT
SUMMARY:Italy-France
DESCRIPTION:U20 Mixed: Bracket 1-4 Finals
LOCATION:  3
DTSTART;TZID=Europe/London:20230811T160000
DURATION: P120M
GEO:;
END:VEVENT

END:VCALENDAR
