BEGIN:VCALENDAR
VERSION:2.0
PRODID: Ultiorganizer


BEGIN:VEVENT
SUMMARY:Ireland-Belgium
DESCRIPTION:U20 Mixed: Pool A
LOCATION:  4
DTSTART;TZID=Europe/London:20230806T113000
DURATION: P120M
GEO:;
END:VEVENT

BEGIN:VEVENT
SUMMARY:Switzerland-Ireland
DESCRIPTION:U20 Mixed: Pool A
LOCATION:  4
DTSTART;TZID=Europe/London:20230806T160000
DURATION: P120M
GEO:;
END:VEVENT

BEGIN:VEVENT
SUMMARY:Poland-Ireland
DESCRIPTION:U20 Mixed: Pool A
LOCATION:  5
DTSTART;TZID=Europe/London:20230807T160000
DURATION: P120M
GEO:;
END:VEVENT

BEGIN:VEVENT
SUMMARY:Italy-Ireland
DESCRIPTION:U20 Mixed: Pool A
LOCATION:  2
DTSTART;TZID=Europe/London:20230808T091500
DURATION: P120M
GEO:;
END:VEVENT

BEGIN:VEVENT
SUMMARY:Ireland-Hungary
DESCRIPTION:U20 Mixed: Pool A
LOCATION:  5
DTSTART;TZID=Europe/London:20230809T113000
DURATION: P120M
GEO:;
END:VEVENT

BEGIN:VEVENT
SUMMARY:Ireland-France
DESCRIPTION:U20 Mixed: Pool A
LOCATION:  6
DTSTART;TZID=Europe/London:20230809T180000
DURATION: P120M
GEO:;
END:VEVENT

BEGIN:VEVENT
SUMMARY:Ireland-Belgium
DESCRIPTION:U20 Mixed: Placement 5-7
LOCATION:  4
DTSTART;TZID=Europe/London:20230810T160000
DURATION: P120M
GEO:;
END:VEVENT

BEGIN:VEVENT
SUMMARY:Poland-Ireland
DESCRIPTION:U20 Mixed: Placement 5-7
LOCATION:  2
DTSTART;TZID=Europe/London:20230811T091500
DURATION: P120M
GEO:;
END:VEVENT

END:VCALENDAR
