BEGIN:VCALENDAR
VERSION:2.0
PRODID: Ultiorganizer


BEGIN:VEVENT
SUMMARY:Ireland-Belgium
DESCRIPTION:U20 Mixed: Pool A
LOCATION:  4
DTSTART;TZID=Europe/London:20230806T113000
DURATION: P120M
GEO:;
END:VEVENT

BEGIN:VEVENT
SUMMARY:Belgium-Poland
DESCRIPTION:U20 Mixed: Pool A
LOCATION:  6
DTSTART;TZID=Europe/London:20230807T091500
DURATION: P120M
GEO:;
END:VEVENT

BEGIN:VEVENT
SUMMARY:Belgium-Italy
DESCRIPTION:U20 Mixed: Pool A
LOCATION:  6
DTSTART;TZID=Europe/London:20230807T160000
DURATION: P120M
GEO:;
END:VEVENT

BEGIN:VEVENT
SUMMARY:France-Belgium
DESCRIPTION:U20 Mixed: Pool A
LOCATION:  1
DTSTART;TZID=Europe/London:20230808T091500
DURATION: P120M
GEO:;
END:VEVENT

BEGIN:VEVENT
SUMMARY:Belgium-Switzerland
DESCRIPTION:U20 Mixed: Pool A
LOCATION:  3
DTSTART;TZID=Europe/London:20230809T091500
DURATION: P120M
GEO:;
END:VEVENT

BEGIN:VEVENT
SUMMARY:Hungary-Belgium
DESCRIPTION:U20 Mixed: Pool A
LOCATION:  6
DTSTART;TZID=Europe/London:20230809T160000
DURATION: P120M
GEO:;
END:VEVENT

BEGIN:VEVENT
SUMMARY:Hungary-Belgium
DESCRIPTION:U20 Mixed: Pre-Semis
LOCATION:  1
DTSTART;TZID=Europe/London:20230810T101500
DURATION: P120M
GEO:;
END:VEVENT

BEGIN:VEVENT
SUMMARY:Ireland-Belgium
DESCRIPTION:U20 Mixed: Placement 5-7
LOCATION:  4
DTSTART;TZID=Europe/London:20230810T160000
DURATION: P120M
GEO:;
END:VEVENT

BEGIN:VEVENT
SUMMARY:Belgium-Poland
DESCRIPTION:U20 Mixed: Placement 5-7
LOCATION:  2
DTSTART;TZID=Europe/London:20230811T160000
DURATION: P120M
GEO:;
END:VEVENT

END:VCALENDAR
