BEGIN:VCALENDAR
VERSION:2.0
PRODID: Ultiorganizer


BEGIN:VEVENT
SUMMARY:Sweden-France
DESCRIPTION:U20 Open: Pool B
LOCATION:  6
DTSTART;TZID=Europe/London:20230806T101500
DURATION: P120M
GEO:;
END:VEVENT

BEGIN:VEVENT
SUMMARY:Germany-France
DESCRIPTION:U20 Open: Pool B
LOCATION:  4
DTSTART;TZID=Europe/London:20230806T180000
DURATION: P120M
GEO:;
END:VEVENT

BEGIN:VEVENT
SUMMARY:Austria-France
DESCRIPTION:U20 Open: Pool B
LOCATION:  6
DTSTART;TZID=Europe/London:20230807T113000
DURATION: P120M
GEO:;
END:VEVENT

BEGIN:VEVENT
SUMMARY:France-Israel
DESCRIPTION:U20 Open: Pool B
LOCATION:  2
DTSTART;TZID=Europe/London:20230807T180000
DURATION: P120M
GEO:;
END:VEVENT

BEGIN:VEVENT
SUMMARY:France-Belgium
DESCRIPTION:U20 Open: Pool B
LOCATION:  3
DTSTART;TZID=Europe/London:20230808T113000
DURATION: P120M
GEO:;
END:VEVENT

BEGIN:VEVENT
SUMMARY:France-Great Britain
DESCRIPTION:U20 Open: PPool D
LOCATION:  5
DTSTART;TZID=Europe/London:20230809T091500
DURATION: P120M
GEO:;
END:VEVENT

BEGIN:VEVENT
SUMMARY:France-Czech Republic
DESCRIPTION:U20 Open: PPool D
LOCATION:  2
DTSTART;TZID=Europe/London:20230809T160000
DURATION: P120M
GEO:;
END:VEVENT

BEGIN:VEVENT
SUMMARY:France-Belgium
DESCRIPTION:U20 Open: Bracket 1-8
LOCATION:  4
DTSTART;TZID=Europe/London:20230810T180000
DURATION: P120M
GEO:;
END:VEVENT

BEGIN:VEVENT
SUMMARY:Germany-France
DESCRIPTION:U20 Open: Bracket 1-8 Semifinals
LOCATION:  2
DTSTART;TZID=Europe/London:20230811T113000
DURATION: P120M
GEO:;
END:VEVENT

BEGIN:VEVENT
SUMMARY:Italy-France
DESCRIPTION:U20 Open: Bracket 1-8 Finals
LOCATION:  Stadion Apiani
DTSTART;TZID=Europe/London:20230812T133000
DURATION: P120M
GEO:;
END:VEVENT

END:VCALENDAR
