BEGIN:VCALENDAR
VERSION:2.0
PRODID: Ultiorganizer


BEGIN:VEVENT
SUMMARY:Czech Republic-Great Britain
DESCRIPTION:U20 Open: Pool A
LOCATION:  1
DTSTART;TZID=Europe/London:20230806T091500
DURATION: P120M
GEO:;
END:VEVENT

BEGIN:VEVENT
SUMMARY:Switzerland-Czech Republic
DESCRIPTION:U20 Open: Pool A
LOCATION:  1
DTSTART;TZID=Europe/London:20230806T160000
DURATION: P120M
GEO:;
END:VEVENT

BEGIN:VEVENT
SUMMARY:Czech Republic-Ireland
DESCRIPTION:U20 Open: Pool A
LOCATION:  5
DTSTART;TZID=Europe/London:20230807T091500
DURATION: P120M
GEO:;
END:VEVENT

BEGIN:VEVENT
SUMMARY:Czech Republic-Netherlands
DESCRIPTION:U20 Open: Pool A
LOCATION:  4
DTSTART;TZID=Europe/London:20230807T180000
DURATION: P120M
GEO:;
END:VEVENT

BEGIN:VEVENT
SUMMARY:Italy-Czech Republic
DESCRIPTION:U20 Open: Pool A
LOCATION:  5
DTSTART;TZID=Europe/London:20230808T113000
DURATION: P120M
GEO:;
END:VEVENT

BEGIN:VEVENT
SUMMARY:Germany-Czech Republic
DESCRIPTION:U20 Open: PPool D
LOCATION:  6
DTSTART;TZID=Europe/London:20230809T093000
DURATION: P120M
GEO:;
END:VEVENT

BEGIN:VEVENT
SUMMARY:France-Czech Republic
DESCRIPTION:U20 Open: PPool D
LOCATION:  2
DTSTART;TZID=Europe/London:20230809T160000
DURATION: P120M
GEO:;
END:VEVENT

BEGIN:VEVENT
SUMMARY:Czech Republic-Sweden
DESCRIPTION:U20 Open: Pre-Quarter
LOCATION:  5
DTSTART;TZID=Europe/London:20230810T101500
DURATION: P120M
GEO:;
END:VEVENT

BEGIN:VEVENT
SUMMARY:Italy-Czech Republic
DESCRIPTION:U20 Open: Bracket 1-8
LOCATION:  1
DTSTART;TZID=Europe/London:20230810T180000
DURATION: P120M
GEO:;
END:VEVENT

BEGIN:VEVENT
SUMMARY:Czech Republic-Switzerland
DESCRIPTION:U20 Open: Bracket 1-8 Semifinals
LOCATION:  1
DTSTART;TZID=Europe/London:20230811T113000
DURATION: P120M
GEO:;
END:VEVENT

BEGIN:VEVENT
SUMMARY:Czech Republic-Austria
DESCRIPTION:U20 Open: Bracket 1-8 Finals
LOCATION:  4
DTSTART;TZID=Europe/London:20230811T160000
DURATION: P120M
GEO:;
END:VEVENT

END:VCALENDAR
