BEGIN:VCALENDAR
VERSION:2.0
PRODID: Ultiorganizer


BEGIN:VEVENT
SUMMARY:Sweden-France
DESCRIPTION:U20 Open: Pool B
LOCATION:  6
DTSTART;TZID=Europe/London:20230806T101500
DURATION: P120M
GEO:;
END:VEVENT

BEGIN:VEVENT
SUMMARY:Austria-Sweden
DESCRIPTION:U20 Open: Pool B
LOCATION:  6
DTSTART;TZID=Europe/London:20230806T180000
DURATION: P120M
GEO:;
END:VEVENT

BEGIN:VEVENT
SUMMARY:Belgium-Sweden
DESCRIPTION:U20 Open: Pool B
LOCATION:  1
DTSTART;TZID=Europe/London:20230807T113000
DURATION: P120M
GEO:;
END:VEVENT

BEGIN:VEVENT
SUMMARY:Germany-Sweden
DESCRIPTION:U20 Open: Pool B
LOCATION:  3
DTSTART;TZID=Europe/London:20230807T180000
DURATION: P120M
GEO:;
END:VEVENT

BEGIN:VEVENT
SUMMARY:Sweden-Israel
DESCRIPTION:U20 Open: Pool B
LOCATION:  2
DTSTART;TZID=Europe/London:20230808T113000
DURATION: P120M
GEO:;
END:VEVENT

BEGIN:VEVENT
SUMMARY:Ireland-Sweden
DESCRIPTION:U20 Open: PPool E
LOCATION:  4
DTSTART;TZID=Europe/London:20230809T113000
DURATION: P120M
GEO:;
END:VEVENT

BEGIN:VEVENT
SUMMARY:Netherlands-Sweden
DESCRIPTION:U20 Open: PPool E
LOCATION:  1
DTSTART;TZID=Europe/London:20230809T180000
DURATION: P120M
GEO:;
END:VEVENT

BEGIN:VEVENT
SUMMARY:Czech Republic-Sweden
DESCRIPTION:U20 Open: Pre-Quarter
LOCATION:  5
DTSTART;TZID=Europe/London:20230810T101500
DURATION: P120M
GEO:;
END:VEVENT

BEGIN:VEVENT
SUMMARY:Israel-Sweden
DESCRIPTION:U20 Open: Bracket 9-12
LOCATION:  2
DTSTART;TZID=Europe/London:20230810T160000
DURATION: P120M
GEO:;
END:VEVENT

BEGIN:VEVENT
SUMMARY:Netherlands-Sweden
DESCRIPTION:U20 Open: Bracket 9-12 Finals
LOCATION:  5
DTSTART;TZID=Europe/London:20230811T160000
DURATION: P120M
GEO:;
END:VEVENT

END:VCALENDAR
