BEGIN:VCALENDAR
VERSION:2.0
PRODID: Ultiorganizer


BEGIN:VEVENT
SUMMARY:Israel-Austria
DESCRIPTION:U20 Open: Pool B
LOCATION:  4
DTSTART;TZID=Europe/London:20230806T093000
DURATION: P120M
GEO:;
END:VEVENT

BEGIN:VEVENT
SUMMARY:Israel-Belgium
DESCRIPTION:U20 Open: Pool B
LOCATION:  1
DTSTART;TZID=Europe/London:20230806T180000
DURATION: P120M
GEO:;
END:VEVENT

BEGIN:VEVENT
SUMMARY:Israel-Germany
DESCRIPTION:U20 Open: Pool B
LOCATION:  2
DTSTART;TZID=Europe/London:20230807T113000
DURATION: P120M
GEO:;
END:VEVENT

BEGIN:VEVENT
SUMMARY:France-Israel
DESCRIPTION:U20 Open: Pool B
LOCATION:  2
DTSTART;TZID=Europe/London:20230807T180000
DURATION: P120M
GEO:;
END:VEVENT

BEGIN:VEVENT
SUMMARY:Sweden-Israel
DESCRIPTION:U20 Open: Pool B
LOCATION:  2
DTSTART;TZID=Europe/London:20230808T113000
DURATION: P120M
GEO:;
END:VEVENT

BEGIN:VEVENT
SUMMARY:Israel-Netherlands
DESCRIPTION:U20 Open: PPool E
LOCATION:  3
DTSTART;TZID=Europe/London:20230809T113000
DURATION: P120M
GEO:;
END:VEVENT

BEGIN:VEVENT
SUMMARY:Ireland-Israel
DESCRIPTION:U20 Open: PPool E
LOCATION:  2
DTSTART;TZID=Europe/London:20230809T180000
DURATION: P120M
GEO:;
END:VEVENT

BEGIN:VEVENT
SUMMARY:Israel-Sweden
DESCRIPTION:U20 Open: Bracket 9-12
LOCATION:  2
DTSTART;TZID=Europe/London:20230810T160000
DURATION: P120M
GEO:;
END:VEVENT

BEGIN:VEVENT
SUMMARY:Ireland-Israel
DESCRIPTION:U20 Open: Bracket 9-12 Finals
LOCATION:  6
DTSTART;TZID=Europe/London:20230811T160000
DURATION: P120M
GEO:;
END:VEVENT

END:VCALENDAR
