BEGIN:VCALENDAR
VERSION:2.0
PRODID: Ultiorganizer


BEGIN:VEVENT
SUMMARY:Switzerland-Netherlands
DESCRIPTION:U20 Open: Pool A
LOCATION:  3
DTSTART;TZID=Europe/London:20230806T091500
DURATION: P120M
GEO:;
END:VEVENT

BEGIN:VEVENT
SUMMARY:Switzerland-Czech Republic
DESCRIPTION:U20 Open: Pool A
LOCATION:  1
DTSTART;TZID=Europe/London:20230806T160000
DURATION: P120M
GEO:;
END:VEVENT

BEGIN:VEVENT
SUMMARY:Switzerland-Great Britain
DESCRIPTION:U20 Open: Pool A
LOCATION:  2
DTSTART;TZID=Europe/London:20230807T091500
DURATION: P120M
GEO:;
END:VEVENT

BEGIN:VEVENT
SUMMARY:Italy-Switzerland
DESCRIPTION:U20 Open: Pool A
LOCATION:  5
DTSTART;TZID=Europe/London:20230807T180000
DURATION: P120M
GEO:;
END:VEVENT

BEGIN:VEVENT
SUMMARY:Ireland-Switzerland
DESCRIPTION:U20 Open: Pool A
LOCATION:  6
DTSTART;TZID=Europe/London:20230808T113000
DURATION: P120M
GEO:;
END:VEVENT

BEGIN:VEVENT
SUMMARY:Switzerland-Belgium
DESCRIPTION:U20 Open: PPool C
LOCATION:  2
DTSTART;TZID=Europe/London:20230809T091500
DURATION: P120M
GEO:;
END:VEVENT

BEGIN:VEVENT
SUMMARY:Austria-Switzerland
DESCRIPTION:U20 Open: PPool C
LOCATION:  4
DTSTART;TZID=Europe/London:20230809T160000
DURATION: P120M
GEO:;
END:VEVENT

BEGIN:VEVENT
SUMMARY:Great Britain-Switzerland
DESCRIPTION:U20 Open: Bracket 1-8
LOCATION:  2
DTSTART;TZID=Europe/London:20230810T180000
DURATION: P120M
GEO:;
END:VEVENT

BEGIN:VEVENT
SUMMARY:Czech Republic-Switzerland
DESCRIPTION:U20 Open: Bracket 1-8 Semifinals
LOCATION:  1
DTSTART;TZID=Europe/London:20230811T113000
DURATION: P120M
GEO:;
END:VEVENT

BEGIN:VEVENT
SUMMARY:Switzerland-Belgium
DESCRIPTION:U20 Open: Bracket 1-8 Finals
LOCATION:  2
DTSTART;TZID=Europe/London:20230811T180000
DURATION: P120M
GEO:;
END:VEVENT

END:VCALENDAR
