BEGIN:VCALENDAR
VERSION:2.0
PRODID: Ultiorganizer


BEGIN:VEVENT
SUMMARY:Switzerland-Netherlands
DESCRIPTION:U20 Open: Pool A
LOCATION:  3
DTSTART;TZID=Europe/London:20230806T091500
DURATION: P120M
GEO:;
END:VEVENT

BEGIN:VEVENT
SUMMARY:Netherlands-Ireland
DESCRIPTION:U20 Open: Pool A
LOCATION:  3
DTSTART;TZID=Europe/London:20230806T160000
DURATION: P120M
GEO:;
END:VEVENT

BEGIN:VEVENT
SUMMARY:Netherlands-Italy
DESCRIPTION:U20 Open: Pool A
LOCATION:  1
DTSTART;TZID=Europe/London:20230807T091500
DURATION: P120M
GEO:;
END:VEVENT

BEGIN:VEVENT
SUMMARY:Czech Republic-Netherlands
DESCRIPTION:U20 Open: Pool A
LOCATION:  4
DTSTART;TZID=Europe/London:20230807T180000
DURATION: P120M
GEO:;
END:VEVENT

BEGIN:VEVENT
SUMMARY:Great Britain-Netherlands
DESCRIPTION:U20 Open: Pool A
LOCATION:  4
DTSTART;TZID=Europe/London:20230808T113000
DURATION: P120M
GEO:;
END:VEVENT

BEGIN:VEVENT
SUMMARY:Israel-Netherlands
DESCRIPTION:U20 Open: PPool E
LOCATION:  3
DTSTART;TZID=Europe/London:20230809T113000
DURATION: P120M
GEO:;
END:VEVENT

BEGIN:VEVENT
SUMMARY:Netherlands-Sweden
DESCRIPTION:U20 Open: PPool E
LOCATION:  1
DTSTART;TZID=Europe/London:20230809T180000
DURATION: P120M
GEO:;
END:VEVENT

BEGIN:VEVENT
SUMMARY:Netherlands-Ireland
DESCRIPTION:U20 Open: Bracket 9-12
LOCATION:  1
DTSTART;TZID=Europe/London:20230810T160000
DURATION: P120M
GEO:;
END:VEVENT

BEGIN:VEVENT
SUMMARY:Netherlands-Sweden
DESCRIPTION:U20 Open: Bracket 9-12 Finals
LOCATION:  5
DTSTART;TZID=Europe/London:20230811T160000
DURATION: P120M
GEO:;
END:VEVENT

END:VCALENDAR
