BEGIN:VCALENDAR
VERSION:2.0
PRODID: Ultiorganizer


BEGIN:VEVENT
SUMMARY:Italy-Czech Republic
DESCRIPTION:U20 Women: Pool A
LOCATION:  Stadion Padova
DTSTART;TZID=Europe/London:20230805T180000
DURATION: P120M
GEO:;
END:VEVENT

BEGIN:VEVENT
SUMMARY:Czech Republic-France
DESCRIPTION:U20 Women: Pool A
LOCATION:  5
DTSTART;TZID=Europe/London:20230806T180000
DURATION: P120M
GEO:;
END:VEVENT

BEGIN:VEVENT
SUMMARY:Czech Republic-Austria
DESCRIPTION:U20 Women: Pool A
LOCATION:  5
DTSTART;TZID=Europe/London:20230807T113000
DURATION: P120M
GEO:;
END:VEVENT

BEGIN:VEVENT
SUMMARY:Sweden-Czech Republic
DESCRIPTION:U20 Women: Pool A
LOCATION:  2
DTSTART;TZID=Europe/London:20230807T160000
DURATION: P120M
GEO:;
END:VEVENT

BEGIN:VEVENT
SUMMARY:Czech Republic-Great Britain
DESCRIPTION:U20 Women: Pool A
LOCATION:  4
DTSTART;TZID=Europe/London:20230808T091500
DURATION: P120M
GEO:;
END:VEVENT

BEGIN:VEVENT
SUMMARY:Germany-Czech Republic
DESCRIPTION:U20 Women: Pool A
LOCATION:  3
DTSTART;TZID=Europe/London:20230809T180000
DURATION: P120M
GEO:;
END:VEVENT

BEGIN:VEVENT
SUMMARY:Czech Republic-Great Britain
DESCRIPTION:U20 Women: Pre-Semis
LOCATION:  4
DTSTART;TZID=Europe/London:20230810T101500
DURATION: P120M
GEO:;
END:VEVENT

BEGIN:VEVENT
SUMMARY:Italy-Czech Republic
DESCRIPTION:U20 Women: Bracket 1-4
LOCATION:  4
DTSTART;TZID=Europe/London:20230811T113000
DURATION: P120M
GEO:;
END:VEVENT

BEGIN:VEVENT
SUMMARY:Austria-Czech Republic
DESCRIPTION:U20 Women: Bracket 1-4 Finals
LOCATION:  3
DTSTART;TZID=Europe/London:20230811T180000
DURATION: P120M
GEO:;
END:VEVENT

END:VCALENDAR
