BEGIN:VCALENDAR
VERSION:2.0
PRODID: Ultiorganizer


BEGIN:VEVENT
SUMMARY:Poland-Italy
DESCRIPTION:U17 - Mixed: Pool A
LOCATION: Blaarmersen A
DTSTART;TZID=Europe/London:20240807T120000
DURATION: P100M
GEO:0.0000000000000;0.0000000000000
END:VEVENT

BEGIN:VEVENT
SUMMARY:Belgium-Poland
DESCRIPTION:U17 - Mixed: Pool A
LOCATION: Blaarmersen C
DTSTART;TZID=Europe/London:20240807T184000
DURATION: P100M
GEO:0.0000000000000;0.0000000000000
END:VEVENT

BEGIN:VEVENT
SUMMARY:Poland-Romania
DESCRIPTION:U17 - Mixed: Pool A
LOCATION: Blaarmersen B
DTSTART;TZID=Europe/London:20240808T100000
DURATION: P100M
GEO:0.0000000000000;0.0000000000000
END:VEVENT

BEGIN:VEVENT
SUMMARY:Poland-Belgium
DESCRIPTION:U17 - Mixed: Pool A
LOCATION: Blaarmersen B
DTSTART;TZID=Europe/London:20240808T150000
DURATION: P100M
GEO:0.0000000000000;0.0000000000000
END:VEVENT

BEGIN:VEVENT
SUMMARY:Romania-Poland
DESCRIPTION:U17 - Mixed: Pool A
LOCATION: Blaarmersen A
DTSTART;TZID=Europe/London:20240809T132000
DURATION: P100M
GEO:0.0000000000000;0.0000000000000
END:VEVENT

BEGIN:VEVENT
SUMMARY:Italy-Poland
DESCRIPTION:U17 - Mixed: Pool A
LOCATION: Blaarmersen A
DTSTART;TZID=Europe/London:20240809T182000
DURATION: P100M
GEO:0.0000000000000;0.0000000000000
END:VEVENT

BEGIN:VEVENT
SUMMARY:Belgium-Poland
DESCRIPTION:U17 - Mixed: Placement Games
LOCATION: Blaarmersen B
DTSTART;TZID=Europe/London:20240810T122000
DURATION: P100M
GEO:0.0000000000000;0.0000000000000
END:VEVENT

END:VCALENDAR
