BEGIN:VCALENDAR
VERSION:2.0
PRODID: Ultiorganizer


BEGIN:VEVENT
SUMMARY:Romania-Belgium
DESCRIPTION:U17 - Mixed: Pool A
LOCATION: Blaarmersen E
DTSTART;TZID=Europe/London:20240807T134000
DURATION: P100M
GEO:0.0000000000000;0.0000000000000
END:VEVENT

BEGIN:VEVENT
SUMMARY:Italy-Romania
DESCRIPTION:U17 - Mixed: Pool A
LOCATION: Blaarmersen E
DTSTART;TZID=Europe/London:20240807T170000
DURATION: P100M
GEO:0.0000000000000;0.0000000000000
END:VEVENT

BEGIN:VEVENT
SUMMARY:Poland-Romania
DESCRIPTION:U17 - Mixed: Pool A
LOCATION: Blaarmersen B
DTSTART;TZID=Europe/London:20240808T100000
DURATION: P100M
GEO:0.0000000000000;0.0000000000000
END:VEVENT

BEGIN:VEVENT
SUMMARY:Romania-Italy
DESCRIPTION:U17 - Mixed: Pool A
LOCATION: Blaarmersen B
DTSTART;TZID=Europe/London:20240808T164000
DURATION: P100M
GEO:0.0000000000000;0.0000000000000
END:VEVENT

BEGIN:VEVENT
SUMMARY:Romania-Poland
DESCRIPTION:U17 - Mixed: Pool A
LOCATION: Blaarmersen A
DTSTART;TZID=Europe/London:20240809T132000
DURATION: P100M
GEO:0.0000000000000;0.0000000000000
END:VEVENT

BEGIN:VEVENT
SUMMARY:Belgium-Romania
DESCRIPTION:U17 - Mixed: Pool A
LOCATION: Blaarmersen B
DTSTART;TZID=Europe/London:20240809T182000
DURATION: P100M
GEO:0.0000000000000;0.0000000000000
END:VEVENT

BEGIN:VEVENT
SUMMARY:Italy-Romania
DESCRIPTION:U17 - Mixed: Placement Games
LOCATION: Blaarmersen B
DTSTART;TZID=Europe/London:20240810T152000
DURATION: P100M
GEO:0.0000000000000;0.0000000000000
END:VEVENT

END:VCALENDAR
