BEGIN:VCALENDAR
VERSION:2.0
PRODID: Ultiorganizer


BEGIN:VEVENT
SUMMARY:Sweden-France
DESCRIPTION:U17 - Open: Pool B
LOCATION: Blaarmersen C
DTSTART;TZID=Europe/London:20240807T134000
DURATION: P100M
GEO:0.0000000000000;0.0000000000000
END:VEVENT

BEGIN:VEVENT
SUMMARY:France-Belgium
DESCRIPTION:U17 - Open: Pool B
LOCATION: Blaarmersen A
DTSTART;TZID=Europe/London:20240807T170000
DURATION: P100M
GEO:0.0000000000000;0.0000000000000
END:VEVENT

BEGIN:VEVENT
SUMMARY:France-Switzerland
DESCRIPTION:U17 - Open: Pool B
LOCATION: Blaarmersen A
DTSTART;TZID=Europe/London:20240808T100000
DURATION: P100M
GEO:0.0000000000000;0.0000000000000
END:VEVENT

BEGIN:VEVENT
SUMMARY:Germany-France
DESCRIPTION:U17 - Open: Power Pool C
LOCATION: Blaarmersen D
DTSTART;TZID=Europe/London:20240808T150000
DURATION: P100M
GEO:0.0000000000000;0.0000000000000
END:VEVENT

BEGIN:VEVENT
SUMMARY:France-Italy
DESCRIPTION:U17 - Open: Power Pool C
LOCATION: Blaarmersen B
DTSTART;TZID=Europe/London:20240809T100000
DURATION: P100M
GEO:0.0000000000000;0.0000000000000
END:VEVENT

BEGIN:VEVENT
SUMMARY:France-Belgium
DESCRIPTION:U17 - Open: Crossover
LOCATION: Blaarmersen A
DTSTART;TZID=Europe/London:20240809T150000
DURATION: P100M
GEO:0.0000000000000;0.0000000000000
END:VEVENT

BEGIN:VEVENT
SUMMARY:Germany-France
DESCRIPTION:U17 - Open: Bracket 1-4
LOCATION: Blaarmersen A
DTSTART;TZID=Europe/London:20240810T104000
DURATION: P100M
GEO:0.0000000000000;0.0000000000000
END:VEVENT

BEGIN:VEVENT
SUMMARY:France-Italy
DESCRIPTION:U17 - Open: Bracket 1-4 Finals
LOCATION: Blaarmersen A
DTSTART;TZID=Europe/London:20240810T140000
DURATION: P100M
GEO:0.0000000000000;0.0000000000000
END:VEVENT

END:VCALENDAR
