BEGIN:VCALENDAR
VERSION:2.0
PRODID: Ultiorganizer


BEGIN:VEVENT
SUMMARY:Great Britain-Italy
DESCRIPTION:U17 - Open: Pool A
LOCATION: Blaarmersen E
DTSTART;TZID=Europe/London:20240807T120000
DURATION: P100M
GEO:0.0000000000000;0.0000000000000
END:VEVENT

BEGIN:VEVENT
SUMMARY:Italy-Austria
DESCRIPTION:U17 - Open: Pool A
LOCATION: Blaarmersen A
DTSTART;TZID=Europe/London:20240807T152000
DURATION: P100M
GEO:0.0000000000000;0.0000000000000
END:VEVENT

BEGIN:VEVENT
SUMMARY:Italy-Germany
DESCRIPTION:U17 - Open: Pool A
LOCATION: Blaarmersen E
DTSTART;TZID=Europe/London:20240808T100000
DURATION: P100M
GEO:0.0000000000000;0.0000000000000
END:VEVENT

BEGIN:VEVENT
SUMMARY:Italy-Sweden
DESCRIPTION:U17 - Open: Power Pool C
LOCATION: Blaarmersen E
DTSTART;TZID=Europe/London:20240808T150000
DURATION: P100M
GEO:0.0000000000000;0.0000000000000
END:VEVENT

BEGIN:VEVENT
SUMMARY:France-Italy
DESCRIPTION:U17 - Open: Power Pool C
LOCATION: Blaarmersen B
DTSTART;TZID=Europe/London:20240809T100000
DURATION: P100M
GEO:0.0000000000000;0.0000000000000
END:VEVENT

BEGIN:VEVENT
SUMMARY:Italy-Switzerland
DESCRIPTION:U17 - Open: Crossover
LOCATION: Blaarmersen B
DTSTART;TZID=Europe/London:20240809T150000
DURATION: P100M
GEO:0.0000000000000;0.0000000000000
END:VEVENT

BEGIN:VEVENT
SUMMARY:Sweden-Italy
DESCRIPTION:U17 - Open: Bracket 1-4
LOCATION: Blaarmersen B
DTSTART;TZID=Europe/London:20240810T104000
DURATION: P100M
GEO:0.0000000000000;0.0000000000000
END:VEVENT

BEGIN:VEVENT
SUMMARY:France-Italy
DESCRIPTION:U17 - Open: Bracket 1-4 Finals
LOCATION: Blaarmersen A
DTSTART;TZID=Europe/London:20240810T140000
DURATION: P100M
GEO:0.0000000000000;0.0000000000000
END:VEVENT

END:VCALENDAR
