BEGIN:VCALENDAR
VERSION:2.0
PRODID: Ultiorganizer


BEGIN:VEVENT
SUMMARY:Sweden-Germany
DESCRIPTION:U20 Women: Pool A
LOCATION:  1
DTSTART;TZID=Europe/London:20230806T113000
DURATION: P120M
GEO:;
END:VEVENT

BEGIN:VEVENT
SUMMARY:Germany-Great Britain
DESCRIPTION:U20 Women: Pool A
LOCATION:  3
DTSTART;TZID=Europe/London:20230806T180000
DURATION: P120M
GEO:;
END:VEVENT

BEGIN:VEVENT
SUMMARY:Italy-Germany
DESCRIPTION:U20 Women: Pool A
LOCATION:  1
DTSTART;TZID=Europe/London:20230807T160000
DURATION: P120M
GEO:;
END:VEVENT

BEGIN:VEVENT
SUMMARY:Austria-Germany
DESCRIPTION:U20 Women: Pool A
LOCATION:  5
DTSTART;TZID=Europe/London:20230808T091500
DURATION: P120M
GEO:;
END:VEVENT

BEGIN:VEVENT
SUMMARY:Germany-France
DESCRIPTION:U20 Women: Pool A
LOCATION:  1
DTSTART;TZID=Europe/London:20230809T114500
DURATION: P120M
GEO:;
END:VEVENT

BEGIN:VEVENT
SUMMARY:Germany-Czech Republic
DESCRIPTION:U20 Women: Pool A
LOCATION:  3
DTSTART;TZID=Europe/London:20230809T180000
DURATION: P120M
GEO:;
END:VEVENT

BEGIN:VEVENT
SUMMARY:Germany-Great Britain
DESCRIPTION:U20 Women: Placement 5-7
LOCATION:  3
DTSTART;TZID=Europe/London:20230810T160000
DURATION: P120M
GEO:;
END:VEVENT

BEGIN:VEVENT
SUMMARY:Sweden-Germany
DESCRIPTION:U20 Women: Placement 5-7
LOCATION:  5
DTSTART;TZID=Europe/London:20230811T091500
DURATION: P120M
GEO:;
END:VEVENT

END:VCALENDAR
