BEGIN:VCALENDAR
VERSION:2.0
PRODID: Ultiorganizer


BEGIN:VEVENT
SUMMARY:Austria-Germany
DESCRIPTION:U17 - Open: Pool A
LOCATION: Blaarmersen B
DTSTART;TZID=Europe/London:20240807T120000
DURATION: P100M
GEO:0.0000000000000;0.0000000000000
END:VEVENT

BEGIN:VEVENT
SUMMARY:Italy-Austria
DESCRIPTION:U17 - Open: Pool A
LOCATION: Blaarmersen A
DTSTART;TZID=Europe/London:20240807T152000
DURATION: P100M
GEO:0.0000000000000;0.0000000000000
END:VEVENT

BEGIN:VEVENT
SUMMARY:Great Britain-Austria
DESCRIPTION:U17 - Open: Pool A
LOCATION: Blaarmersen C
DTSTART;TZID=Europe/London:20240808T100000
DURATION: P100M
GEO:0.0000000000000;0.0000000000000
END:VEVENT

BEGIN:VEVENT
SUMMARY:Austria-Belgium
DESCRIPTION:U17 - Open: Power Pool D
LOCATION: Blaarmersen C
DTSTART;TZID=Europe/London:20240808T150000
DURATION: P100M
GEO:0.0000000000000;0.0000000000000
END:VEVENT

BEGIN:VEVENT
SUMMARY:Switzerland-Austria
DESCRIPTION:U17 - Open: Power Pool D
LOCATION: Blaarmersen D
DTSTART;TZID=Europe/London:20240809T100000
DURATION: P100M
GEO:0.0000000000000;0.0000000000000
END:VEVENT

BEGIN:VEVENT
SUMMARY:Austria-Belgium
DESCRIPTION:U17 - Open: Bracket 5-8
LOCATION: Blaarmersen D
DTSTART;TZID=Europe/London:20240810T111000
DURATION: P100M
GEO:0.0000000000000;0.0000000000000
END:VEVENT

BEGIN:VEVENT
SUMMARY:Great Britain-Austria
DESCRIPTION:U17 - Open: Bracket 5-8 Finals
LOCATION: Blaarmersen D
DTSTART;TZID=Europe/London:20240810T143000
DURATION: P100M
GEO:0.0000000000000;0.0000000000000
END:VEVENT

END:VCALENDAR
