BEGIN:VCALENDAR
VERSION:2.0
PRODID: Ultiorganizer


BEGIN:VEVENT
SUMMARY:Sweden-Italy
DESCRIPTION:U17 - Women: Pool A
LOCATION: Blaarmersen C
DTSTART;TZID=Europe/London:20240807T120000
DURATION: P100M
GEO:0.0000000000000;0.0000000000000
END:VEVENT

BEGIN:VEVENT
SUMMARY:Italy-Austria
DESCRIPTION:U17 - Women: Pool A
LOCATION: Blaarmersen C
DTSTART;TZID=Europe/London:20240807T152000
DURATION: P100M
GEO:0.0000000000000;0.0000000000000
END:VEVENT

BEGIN:VEVENT
SUMMARY:Italy-Great Britain
DESCRIPTION:U17 - Women: Pool A
LOCATION: Blaarmersen E
DTSTART;TZID=Europe/London:20240808T114000
DURATION: P100M
GEO:0.0000000000000;0.0000000000000
END:VEVENT

BEGIN:VEVENT
SUMMARY:Italy-Belgium
DESCRIPTION:U17 - Women: Power Pool C
LOCATION: Blaarmersen D
DTSTART;TZID=Europe/London:20240808T164000
DURATION: P100M
GEO:0.0000000000000;0.0000000000000
END:VEVENT

BEGIN:VEVENT
SUMMARY:France-Italy
DESCRIPTION:U17 - Women: Power Pool C
LOCATION: Blaarmersen B
DTSTART;TZID=Europe/London:20240809T114000
DURATION: P100M
GEO:0.0000000000000;0.0000000000000
END:VEVENT

BEGIN:VEVENT
SUMMARY:Italy-Sweden
DESCRIPTION:U17 - Women: Bracket 1-4
LOCATION: Blaarmersen B
DTSTART;TZID=Europe/London:20240810T090000
DURATION: P100M
GEO:0.0000000000000;0.0000000000000
END:VEVENT

BEGIN:VEVENT
SUMMARY:France-Italy
DESCRIPTION:U17 - Women: Bracket 1-4 Finals
LOCATION: Blaarmersen B
DTSTART;TZID=Europe/London:20240810T170000
DURATION: P100M
GEO:0.0000000000000;0.0000000000000
END:VEVENT

END:VCALENDAR
