BEGIN:VCALENDAR
VERSION:2.0
PRODID: Ultiorganizer


BEGIN:VEVENT
SUMMARY:Belgium-France
DESCRIPTION:U17 - Women: Pool B
LOCATION: Blaarmersen A
DTSTART;TZID=Europe/London:20240807T134000
DURATION: P100M
GEO:0.0000000000000;0.0000000000000
END:VEVENT

BEGIN:VEVENT
SUMMARY:Germany-Belgium
DESCRIPTION:U17 - Women: Pool B
LOCATION: Blaarmersen C
DTSTART;TZID=Europe/London:20240807T170000
DURATION: P100M
GEO:0.0000000000000;0.0000000000000
END:VEVENT

BEGIN:VEVENT
SUMMARY:Belgium-Switzerland
DESCRIPTION:U17 - Women: Pool B
LOCATION: Blaarmersen B
DTSTART;TZID=Europe/London:20240808T114000
DURATION: P100M
GEO:0.0000000000000;0.0000000000000
END:VEVENT

BEGIN:VEVENT
SUMMARY:Italy-Belgium
DESCRIPTION:U17 - Women: Power Pool C
LOCATION: Blaarmersen D
DTSTART;TZID=Europe/London:20240808T164000
DURATION: P100M
GEO:0.0000000000000;0.0000000000000
END:VEVENT

BEGIN:VEVENT
SUMMARY:Belgium-Sweden
DESCRIPTION:U17 - Women: Power Pool C
LOCATION: Blaarmersen A
DTSTART;TZID=Europe/London:20240809T114000
DURATION: P100M
GEO:0.0000000000000;0.0000000000000
END:VEVENT

BEGIN:VEVENT
SUMMARY:Belgium-Germany
DESCRIPTION:U17 - Women: Crossover
LOCATION: Blaarmersen A
DTSTART;TZID=Europe/London:20240809T164000
DURATION: P100M
GEO:0.0000000000000;0.0000000000000
END:VEVENT

BEGIN:VEVENT
SUMMARY:France-Belgium
DESCRIPTION:U17 - Women: Bracket 1-4
LOCATION: Blaarmersen A
DTSTART;TZID=Europe/London:20240810T090000
DURATION: P100M
GEO:0.0000000000000;0.0000000000000
END:VEVENT

BEGIN:VEVENT
SUMMARY:Belgium-Sweden
DESCRIPTION:U17 - Women: Bracket 1-4 Finals
LOCATION: Blaarmersen A
DTSTART;TZID=Europe/London:20240810T122000
DURATION: P100M
GEO:0.0000000000000;0.0000000000000
END:VEVENT

END:VCALENDAR
