BEGIN:VCALENDAR
VERSION:2.0
PRODID: Ultiorganizer


BEGIN:VEVENT
SUMMARY:Switzerland-Germany
DESCRIPTION:U17 - Women: Pool B
LOCATION: Blaarmersen B
DTSTART;TZID=Europe/London:20240807T134000
DURATION: P100M
GEO:0.0000000000000;0.0000000000000
END:VEVENT

BEGIN:VEVENT
SUMMARY:France-Switzerland
DESCRIPTION:U17 - Women: Pool B
LOCATION: Blaarmersen D
DTSTART;TZID=Europe/London:20240807T170000
DURATION: P100M
GEO:0.0000000000000;0.0000000000000
END:VEVENT

BEGIN:VEVENT
SUMMARY:Belgium-Switzerland
DESCRIPTION:U17 - Women: Pool B
LOCATION: Blaarmersen B
DTSTART;TZID=Europe/London:20240808T114000
DURATION: P100M
GEO:0.0000000000000;0.0000000000000
END:VEVENT

BEGIN:VEVENT
SUMMARY:Austria-Switzerland
DESCRIPTION:U17 - Women: Power Pool D
LOCATION: Blaarmersen A
DTSTART;TZID=Europe/London:20240808T164000
DURATION: P100M
GEO:0.0000000000000;0.0000000000000
END:VEVENT

BEGIN:VEVENT
SUMMARY:Switzerland-Great Britain
DESCRIPTION:U17 - Women: Power Pool D
LOCATION: Blaarmersen D
DTSTART;TZID=Europe/London:20240809T114000
DURATION: P100M
GEO:0.0000000000000;0.0000000000000
END:VEVENT

BEGIN:VEVENT
SUMMARY:Switzerland-Austria
DESCRIPTION:U17 - Women: Bracket 5-8
LOCATION: Blaarmersen C
DTSTART;TZID=Europe/London:20240810T093000
DURATION: P100M
GEO:0.0000000000000;0.0000000000000
END:VEVENT

BEGIN:VEVENT
SUMMARY:Switzerland-Great Britain
DESCRIPTION:U17 - Women: Bracket 5-8 Finals
LOCATION: Blaarmersen D
DTSTART;TZID=Europe/London:20240810T125000
DURATION: P100M
GEO:0.0000000000000;0.0000000000000
END:VEVENT

END:VCALENDAR
