BEGIN:VCALENDAR
VERSION:2.0
PRODID: Ultiorganizer


BEGIN:VEVENT
SUMMARY:Austria-Great Britain
DESCRIPTION:U17 - Women: Pool A
LOCATION: Blaarmersen D
DTSTART;TZID=Europe/London:20240807T120000
DURATION: P100M
GEO:0.0000000000000;0.0000000000000
END:VEVENT

BEGIN:VEVENT
SUMMARY:Italy-Austria
DESCRIPTION:U17 - Women: Pool A
LOCATION: Blaarmersen C
DTSTART;TZID=Europe/London:20240807T152000
DURATION: P100M
GEO:0.0000000000000;0.0000000000000
END:VEVENT

BEGIN:VEVENT
SUMMARY:Sweden-Austria
DESCRIPTION:U17 - Women: Pool A
LOCATION: Blaarmersen A
DTSTART;TZID=Europe/London:20240808T114000
DURATION: P100M
GEO:0.0000000000000;0.0000000000000
END:VEVENT

BEGIN:VEVENT
SUMMARY:Austria-Switzerland
DESCRIPTION:U17 - Women: Power Pool D
LOCATION: Blaarmersen A
DTSTART;TZID=Europe/London:20240808T164000
DURATION: P100M
GEO:0.0000000000000;0.0000000000000
END:VEVENT

BEGIN:VEVENT
SUMMARY:Germany-Austria
DESCRIPTION:U17 - Women: Power Pool D
LOCATION: Blaarmersen C
DTSTART;TZID=Europe/London:20240809T114000
DURATION: P100M
GEO:0.0000000000000;0.0000000000000
END:VEVENT

BEGIN:VEVENT
SUMMARY:Sweden-Austria
DESCRIPTION:U17 - Women: Crossover
LOCATION: Blaarmersen B
DTSTART;TZID=Europe/London:20240809T164000
DURATION: P100M
GEO:0.0000000000000;0.0000000000000
END:VEVENT

BEGIN:VEVENT
SUMMARY:Switzerland-Austria
DESCRIPTION:U17 - Women: Bracket 5-8
LOCATION: Blaarmersen C
DTSTART;TZID=Europe/London:20240810T093000
DURATION: P100M
GEO:0.0000000000000;0.0000000000000
END:VEVENT

BEGIN:VEVENT
SUMMARY:Austria-Germany
DESCRIPTION:U17 - Women: Bracket 5-8 Finals
LOCATION: Blaarmersen C
DTSTART;TZID=Europe/London:20240810T125000
DURATION: P100M
GEO:0.0000000000000;0.0000000000000
END:VEVENT

END:VCALENDAR
