BEGIN:VCALENDAR
VERSION:2.0
PRODID: Ultiorganizer


BEGIN:VEVENT
SUMMARY:Italy-Czech Republic
DESCRIPTION:U20 Women: Pool A
LOCATION:  Stadion Padova
DTSTART;TZID=Europe/London:20230805T180000
DURATION: P120M
GEO:;
END:VEVENT

BEGIN:VEVENT
SUMMARY:Sweden-Italy
DESCRIPTION:U20 Women: Pool A
LOCATION:  2
DTSTART;TZID=Europe/London:20230806T180000
DURATION: P120M
GEO:;
END:VEVENT

BEGIN:VEVENT
SUMMARY:Great Britain-Italy
DESCRIPTION:U20 Women: Pool A
LOCATION:  4
DTSTART;TZID=Europe/London:20230807T113000
DURATION: P120M
GEO:;
END:VEVENT

BEGIN:VEVENT
SUMMARY:Italy-Germany
DESCRIPTION:U20 Women: Pool A
LOCATION:  1
DTSTART;TZID=Europe/London:20230807T160000
DURATION: P120M
GEO:;
END:VEVENT

BEGIN:VEVENT
SUMMARY:Italy-France
DESCRIPTION:U20 Women: Pool A
LOCATION:  3
DTSTART;TZID=Europe/London:20230808T091500
DURATION: P120M
GEO:;
END:VEVENT

BEGIN:VEVENT
SUMMARY:Austria-Italy
DESCRIPTION:U20 Women: Pool A
LOCATION:  6
DTSTART;TZID=Europe/London:20230809T114500
DURATION: P120M
GEO:;
END:VEVENT

BEGIN:VEVENT
SUMMARY:Italy-Czech Republic
DESCRIPTION:U20 Women: Bracket 1-4
LOCATION:  4
DTSTART;TZID=Europe/London:20230811T113000
DURATION: P120M
GEO:;
END:VEVENT

BEGIN:VEVENT
SUMMARY:France-Italy
DESCRIPTION:U20 Women: Bracket 1-4 Finals
LOCATION:  Stadion Apiani
DTSTART;TZID=Europe/London:20230812T093000
DURATION: P120M
GEO:;
END:VEVENT

END:VCALENDAR
