BEGIN:VCALENDAR
VERSION:2.0
PRODID: Ultiorganizer


BEGIN:VEVENT
SUMMARY:Switzerland-Poland
DESCRIPTION:U20 Mixed: Pool A
LOCATION:  5
DTSTART;TZID=Europe/London:20230806T113000
DURATION: P120M
GEO:;
END:VEVENT

BEGIN:VEVENT
SUMMARY:Switzerland-Ireland
DESCRIPTION:U20 Mixed: Pool A
LOCATION:  4
DTSTART;TZID=Europe/London:20230806T160000
DURATION: P120M
GEO:;
END:VEVENT

BEGIN:VEVENT
SUMMARY:Hungary-Switzerland
DESCRIPTION:U20 Mixed: Pool A
LOCATION:  4
DTSTART;TZID=Europe/London:20230807T091500
DURATION: P120M
GEO:;
END:VEVENT

BEGIN:VEVENT
SUMMARY:Switzerland-France
DESCRIPTION:U20 Mixed: Pool A
LOCATION:  4
DTSTART;TZID=Europe/London:20230807T160000
DURATION: P120M
GEO:;
END:VEVENT

BEGIN:VEVENT
SUMMARY:Belgium-Switzerland
DESCRIPTION:U20 Mixed: Pool A
LOCATION:  3
DTSTART;TZID=Europe/London:20230809T091500
DURATION: P120M
GEO:;
END:VEVENT

BEGIN:VEVENT
SUMMARY:Italy-Switzerland
DESCRIPTION:U20 Mixed: Pool A
LOCATION:  5
DTSTART;TZID=Europe/London:20230809T160000
DURATION: P120M
GEO:;
END:VEVENT

BEGIN:VEVENT
SUMMARY:Switzerland-Italy
DESCRIPTION:U20 Mixed: Bracket 1-4
LOCATION:  3
DTSTART;TZID=Europe/London:20230811T091500
DURATION: P120M
GEO:;
END:VEVENT

BEGIN:VEVENT
SUMMARY:Switzerland-Hungary
DESCRIPTION:U20 Mixed: Bracket 1-4 Finals
LOCATION:  Stadion Apiani
DTSTART;TZID=Europe/London:20230812T113000
DURATION: P120M
GEO:;
END:VEVENT

END:VCALENDAR
